BEGIN:VCALENDAR
VERSION:2.0
PRODID:-//wp-events-plugin.com//7.2.3.1//EN
TZID:America/New_York
X-WR-TIMEZONE:America/New_York
BEGIN:VEVENT
UID:30@ka4ema.net
DTSTART;TZID=America/New_York:20260628T063000
DTEND;TZID=America/New_York:20260628T161500
DTSTAMP:20260415T175640Z
URL:https://ka4ema.net/events/chattanooga-waterfront-triathlon-3/
SUMMARY:Chattanooga Waterfront Triathlon
DESCRIPTION:For more information send us a message using the contacts form.
 \n\nSignup instructions will be provided nearer the event. https://ka4ema.
 net/contact-us/\n\nhttps://www.magicsportsusa.com/events/chattanooga-water
 front-triathlon\n\n&nbsp\;
END:VEVENT
BEGIN:VTIMEZONE
TZID:America/New_York
X-LIC-LOCATION:America/New_York
BEGIN:DAYLIGHT
DTSTART:20260308T030000
TZOFFSETFROM:-0500
TZOFFSETTO:-0400
TZNAME:EDT
END:DAYLIGHT
END:VTIMEZONE
END:VCALENDAR