BEGIN:VCALENDAR
VERSION:2.0
PRODID:-//wp-events-plugin.com//7.2.3.1//EN
TZID:America/New_York
X-WR-TIMEZONE:America/New_York
BEGIN:VEVENT
UID:15@ka4ema.net
DTSTART;TZID=America/New_York:20251108T070000
DTEND;TZID=America/New_York:20251108T130000
DTSTAMP:20251018T012913Z
URL:https://ka4ema.net/events/chickamauga-battlefield-marathon-2/
SUMMARY:Chickamauga Battlefield Marathon
DESCRIPTION:Click the MORE INFO button to activate the links below.\n\nhttp
 s://www.battlefieldmarathon.com/races/marathon/\n\nFor event information s
 ee their website:\n\nClick the MORE INFO button to activate the links belo
 w.\n\nhttps://www.battlefieldmarathon.com/races/marathon/\n\nSignup Here\n
 \n&nbsp\;
CATEGORIES:Public Service Activity
END:VEVENT
BEGIN:VTIMEZONE
TZID:America/New_York
X-LIC-LOCATION:America/New_York
BEGIN:STANDARD
DTSTART:20251102T010000
TZOFFSETFROM:-0400
TZOFFSETTO:-0500
TZNAME:EST
END:STANDARD
END:VTIMEZONE
END:VCALENDAR