BEGIN:VCALENDAR
VERSION:2.0
PRODID:-//wp-events-plugin.com//7.2.3.1//EN
TZID:America/New_York
X-WR-TIMEZONE:America/New_York
BEGIN:VEVENT
UID:31@ka4ema.net
DTSTART;TZID=America/New_York:20260101T063000
DTEND;TZID=America/New_York:20260101T140000
DTSTAMP:20260224T015939Z
URL:https://ka4ema.net/events/chickamauga-battlefield-races/
SUMMARY:Chickamauga Battlefield Races
DESCRIPTION:More information and signup info will be posted closer to this 
 event date.\n\nhttps://www.battlefieldmarathon.com/
END:VEVENT
BEGIN:VTIMEZONE
TZID:America/New_York
X-LIC-LOCATION:America/New_York
BEGIN:STANDARD
DTSTART:20251102T010000
TZOFFSETFROM:-0400
TZOFFSETTO:-0500
TZNAME:EST
END:STANDARD
END:VTIMEZONE
END:VCALENDAR